BEGIN:VCALENDAR
VERSION:2.0
PRODID:-//Kalender//
BEGIN:VEVENT
SUMMARY:Einschulung 2026
DTSTART:20260820T220000Z
DTSTAMP:20260420T111938Z
UID:event_ical_kalender_3683
DESCRIPTION:Den Einschulungs-Gottesdienst verbinden wir mit der Eröffnung
  des Schuljahres und feiern mit der gesamten Schulgemeinschaft und den Fam
 ilien der Einschulungskinder in zwei Durchgängen. Um 09.00 Uhr werden die
  Kinder der Klasse 1a eingeschult und um 11.00 Uhr die Kinder der Klasse 1
 b.
LOCATION:Dom zu Magdeburg
END:VEVENT
END:VCALENDAR
