BEGIN:VCALENDAR
VERSION:2.0
PRODID:-//Kalender//
BEGIN:VEVENT
SUMMARY:Vorschule Klasse 1b
DTSTART:20260608T220000Z
DTSTAMP:20260425T230135Z
UID:event_ical_kalender_3644
DESCRIPTION:Heute findet die Vorschule für die Klasse 1b im 2. OG statt.
LOCATION:DGS
END:VEVENT
END:VCALENDAR
