BEGIN:VCALENDAR
VERSION:2.0
PRODID:-//Kalender//
BEGIN:VEVENT
SUMMARY:Beweglicher Ferientag
DTSTART:20231130T230000Z
DTSTAMP:20260426T034404Z
UID:event_ical_kalender_3062
DESCRIPTION:Heute ist ein beweglicher Ferientag in der Domgrundschule. Der
  Hort übernimmt die Betreuung der Kinder.
LOCATION:DGS
END:VEVENT
END:VCALENDAR
