BEGIN:VCALENDAR
VERSION:2.0
PRODID:-//Kalender//
BEGIN:VEVENT
SUMMARY:Advents-Gottesdienst
DTSTART:20221216T090000Z
DTSTAMP:20260421T095425Z
UID:event_ical_kalender_2823
DESCRIPTION:Advents-Gottesdienst zum Jahresausklang
LOCATION:Domremter
END:VEVENT
END:VCALENDAR
