BEGIN:VCALENDAR
VERSION:2.0
PRODID:-//Kalender//
BEGIN:VEVENT
SUMMARY:Fahrradprüfung 2022
DTSTART:20220706T220000Z
DTSTAMP:20260420T112340Z
UID:event_ical_kalender_2617
DESCRIPTION:Heute legen die Kinder der 4. Klassen die Fahrradprüfung ab.
LOCATION:Domgrundschule
END:VEVENT
END:VCALENDAR
