BEGIN:VCALENDAR
VERSION:2.0
PRODID:-//Kalender//
BEGIN:VEVENT
SUMMARY:Abschluss-Gottesdienst
DTSTART:20220712T080000Z
DTSTAMP:20260420T111840Z
UID:event_ical_kalender_2591
DESCRIPTION:Heute wird das Schuljahr beschlossen und die Kinder der beiden
  4. Klassen verabschiedet. Um 10.00 Uhr feiert die Schulgemeinschaft den G
 ottesdienst im Dom zu Magdeburg.
LOCATION:Dom zu Magdeburg
END:VEVENT
END:VCALENDAR
