BEGIN:VCALENDAR
VERSION:2.0
PRODID:-//Kalender//
BEGIN:VEVENT
SUMMARY:Sommerferien
DTSTART:20220713T220000Z
DTEND:20220823T220000Z
DTSTAMP:20260420T112317Z
UID:event_ical_kalender_2088
DESCRIPTION:Sommerferien
END:VEVENT
END:VCALENDAR
