BEGIN:VCALENDAR
VERSION:2.0
PRODID:-//Kalender//
BEGIN:VEVENT
SUMMARY:Schulbuchverkauf/Schülerjahreskarten
DTSTART:20180807T080000Z
DTEND:20180807T110000Z
DTSTAMP:20260421T085357Z
UID:event_ical_kalender_1714
DESCRIPTION:Ausgabe der Schulbücher durch die Buchhandlung Wahle Ausgabe 
 der Schülerjahreskarten. Anspruchsberechtigt sind alle Schüler die in  
 Magdeburg wohnen (Schulweg länger als 2\,0 km)
LOCATION:DGS\, EG
END:VEVENT
END:VCALENDAR
