BEGIN:VCALENDAR
VERSION:2.0
PRODID:-//Kalender//
BEGIN:VEVENT
SUMMARY:Schuljahresabschlussgottesdienst
DTSTART:20170622T080000Z
DTEND:20170622T090000Z
DTSTAMP:20260421T081621Z
UID:event_ical_kalender_1414
DESCRIPTION:Schuljahresabschlussgottesdienst und Verabschiedung der Schül
 erinnen und Schüler der 4. Klasse
LOCATION:Dom zu Magdeburg
END:VEVENT
END:VCALENDAR
